Workbook

Sheet 総括見積書
A1: 総括見積書
A3: 本シートへの記載は不要です。各内訳から自動で集計を行っております。
A5: ■文書管理システム | I5: （税抜き）
A6: NO. | B6: 発生費用 | C6: 導入費用 | D6: 保守費用（1年目） | E6: 保守費用（2年目） | F6: 保守費用（3年目） | G6: 保守費用（4年目） | H6: 保守費用（5年目） | I6: 項目合計額
A7: 1 | B7: 導入費用 | C7: =【内訳１】導入費用!C16 -> 0 | I7: =SUM(C7:C7) -> 0
A8: 2 | B8: 運用保守費用 | D8: =【内訳2】運用保守業務費用!C13 -> 0 | E8: =【内訳2】運用保守業務費用!D13 -> 0 | F8: =【内訳2】運用保守業務費用!E13 -> 0 | G8: =【内訳2】運用保守業務費用!F13 -> 0 | H8: =【内訳2】運用保守業務費用!G13 -> 0 | I8: =SUM(C8:H8) -> 0
A9: 年度合計額 | C9: =SUM(C7:C8) -> 0 | D9: =SUM(D7:D8) -> 0 | E9: =SUM(E7:E8) -> 0 | F9: =SUM(F7:F8) -> 0 | G9: =SUM(G7:G8) -> 0 | H9: =SUM(H7:H8) -> 0 | I9: =SUM(C9:H9) -> 0
A11: ■財務会計システム | I11: （税抜き）
A12: NO. | B12: 発生費用 | C12: 導入費用 | D12: 保守費用（1年目） | E12: 保守費用（2年目） | F12: 保守費用（3年目） | G12: 保守費用（4年目） | H12: 保守費用（5年目） | I12: 項目合計額
A13: 1 | B13: 導入費用 | C13: =【内訳2】運用保守業務費用!C21 -> 0 | I13: =SUM(C13:C13) -> 0
A14: 2 | B14: 運用保守費用 | D14: =【内訳2】運用保守業務費用!C23 -> 0 | E14: =【内訳2】運用保守業務費用!D23 -> 0 | F14: =【内訳2】運用保守業務費用!E23 -> 0 | G14: =【内訳2】運用保守業務費用!F23 -> 0 | H14: =【内訳2】運用保守業務費用!G23 -> 0 | I14: =SUM(C14:H14) -> 0
A15: 年度合計額 | C15: =SUM(C13:C14) -> 0 | D15: =SUM(D13:D14) -> 0 | E15: =SUM(E13:E14) -> 0 | F15: =SUM(F13:F14) -> 0 | G15: =SUM(G13:G14) -> 0 | H15: =SUM(H13:H14) -> 0 | I15: =SUM(C15:H15) -> 0
A17: ■庶務事務システム | I17: （税抜き）
A18: NO. | B18: 発生費用 | C18: 導入費用 | D18: 保守費用（1年目） | E18: 保守費用（2年目） | F18: 保守費用（3年目） | G18: 保守費用（4年目） | H18: 保守費用（5年目） | I18: 項目合計額
A19: 1 | B19: 導入費用 | C19: =【内訳2】運用保守業務費用!C23 -> 0 | I19: =SUM(C19:C19) -> 0
A20: 2 | B20: 運用保守費用 | D20: =【内訳2】運用保守業務費用!C32 -> 0 | E20: =【内訳2】運用保守業務費用!D32 -> 0 | F20: =【内訳2】運用保守業務費用!E32 -> 0 | G20: =【内訳2】運用保守業務費用!F32 -> 0 | H20: =【内訳2】運用保守業務費用!G32 -> 0 | I20: =SUM(C20:H20) -> 0
A21: 年度合計額 | C21: =SUM(C19:C20) -> 0 | D21: =SUM(D19:D20) -> 0 | E21: =SUM(E19:E20) -> 0 | F21: =SUM(F19:F20) -> 0 | G21: =SUM(G19:G20) -> 0 | H21: =SUM(H19:H20) -> 0 | I21: =SUM(C21:H21) -> 0
A23: ■人事給与システム | I23: （税抜き）
A24: NO. | B24: 発生費用 | C24: 導入費用 | D24: 保守費用（1年目） | E24: 保守費用（2年目） | F24: 保守費用（3年目） | G24: 保守費用（4年目） | H24: 保守費用（5年目） | I24: 項目合計額
A25: 1 | B25: 導入費用 | C25: =【内訳2】運用保守業務費用!C30 -> 0 | I25: =SUM(C25:C25) -> 0
A26: 2 | B26: 運用保守費用 | D26: =【内訳2】運用保守業務費用!C41 -> 0 | E26: =【内訳2】運用保守業務費用!D41 -> 0 | F26: =【内訳2】運用保守業務費用!E41 -> 0 | G26: =【内訳2】運用保守業務費用!F41 -> 0 | H26: =【内訳2】運用保守業務費用!G41 -> 0 | I26: =SUM(C26:H26) -> 0
A27: 年度合計額 | C27: =SUM(C25:C26) -> 0 | D27: =SUM(D25:D26) -> 0 | E27: =SUM(E25:E26) -> 0 | F27: =SUM(F25:F26) -> 0 | G27: =SUM(G25:G26) -> 0 | H27: =SUM(H25:H26) -> 0 | I27: =SUM(C27:H27) -> 0
A29: ■各システム合計 | I29: （税抜き）
A30: NO. | B30: 発生費用 | C30: 導入費用 | D30: 保守費用（1年目） | E30: 保守費用（2年目） | F30: 保守費用（3年目） | G30: 保守費用（4年目） | H30: 保守費用（5年目） | I30: 項目合計額
A31: 1 | B31: 導入費用 | C31: =【内訳2】運用保守業務費用!C32 -> 0 | I31: =SUM(C31:C31) -> 0
A32: 2 | B32: 運用保守費用 | D32: =【内訳2】運用保守業務費用!C50 -> 0 | E32: =【内訳2】運用保守業務費用!D50 -> 0 | F32: =【内訳2】運用保守業務費用!E50 -> 0 | G32: =【内訳2】運用保守業務費用!F50 -> 0 | H32: =【内訳2】運用保守業務費用!G50 -> 0 | I32: =SUM(C32:H32) -> 0
A33: 年度合計額 | C33: =SUM(C31:C32) -> 0 | D33: =SUM(D31:D32) -> 0 | E33: =SUM(E31:E32) -> 0 | F33: =SUM(F31:F32) -> 0 | G33: =SUM(G31:G32) -> 0 | H33: =SUM(H31:H32) -> 0 | I33: =SUM(C33:H33) -> 0
B35: お見積もりの前提条件をご記載ください。

Sheet 【内訳１】導入費用
A1: 【内訳１】システム構築費用
A3: 各新システムの導入費用の見積をお願いします。
A4: 導入費用に掛かるオプションがある場合、セルを追加の上、各オプションごとの費用をご記載ください。
A6: 文書管理システム | G6: （税抜き）
A7: No | B7: 発生費用 | C7: 導入費用 | D7: 項目合計額 | E7: 備考
A8: 1 | B8: システム構築費用 （プロジェクト開始から終了までに係る費用） | D8: =C8 -> 0
A9: 2 | B9: 現行システムからのデータ移行費用 | D9: =C9 -> 0
A10: 3 | B10: 新システムへのデータ抽出費用 | D10: =C10 -> 0
A11: 4 | B11: 他システム連携費用 | D11: =C11 -> 0
A12: 5 | B12: ハードウェア費用 | D12: =C12 -> 0
A13: 6 | B13: ソフトウェア費用 | D13: =C13 -> 0
A14: 7 | B14: （発生する費用項目をご記入ください） | D14: =C14 -> 0
A15: 8 | B15: （発生する費用項目をご記入ください） | D15: =C15 -> 0
B16: 年度合計額 | C16: =SUM(C8:C15) -> 0 | D16: =SUM(D8:D15) -> 0
A18: 財務会計システム | G18: （税抜き）
A19: No | B19: 発生費用 | C19: 導入費用 | D19: 項目合計額 | E19: 備考
A20: 1 | B20: システム構築費用 （プロジェクト開始から終了までに係る費用） | D20: =C20 -> 0
A21: 2 | B21: 現行システムからのデータ移行費用 | D21: =C21 -> 0
A22: 3 | B22: 新システムへのデータ抽出費用 | D22: =C22 -> 0
A23: 4 | B23: 他システム連携費用 | D23: =C23 -> 0
A24: 5 | B24: ハードウェア費用 | D24: =C24 -> 0
A25: 6 | B25: ソフトウェア費用 | D25: =C25 -> 0
A26: 7 | B26: （発生する費用項目をご記入ください） | D26: =C26 -> 0
A27: 8 | B27: （発生する費用項目をご記入ください） | D27: =C27 -> 0
B28: 年度合計額 | C28: =SUM(C20:C27) -> 0 | D28: =SUM(D20:D27) -> 0
A30: 庶務事務システム | G30: （税抜き）
A31: No | B31: 発生費用 | C31: 導入費用 | D31: 項目合計額 | E31: 備考
A32: 1 | B32: システム構築費用 （プロジェクト開始から終了までに係る費用） | D32: =C32 -> 0
A33: 2 | B33: 現行システムからのデータ移行費用 | D33: =C33 -> 0
A34: 3 | B34: 新システムへのデータ抽出費用 | D34: =C34 -> 0
A35: 4 | B35: 他システム連携費用 | D35: =C35 -> 0
A36: 5 | B36: ハードウェア費用 | D36: =C36 -> 0
A37: 6 | B37: ソフトウェア費用 | D37: =C37 -> 0
A38: 7 | B38: （発生する費用項目をご記入ください） | D38: =C38 -> 0
A39: 8 | B39: （発生する費用項目をご記入ください） | D39: =C39 -> 0
B40: 年度合計額 | C40: =SUM(C32:C39) -> 0 | D40: =SUM(D32:D39) -> 0
A42: 人事給与システム | G42: （税抜き）
A43: No | B43: 発生費用 | C43: 導入費用 | D43: 項目合計額 | E43: 備考
A44: 1 | B44: システム構築費用 （プロジェクト開始から終了までに係る費用） | D44: =C44 -> 0
A45: 2 | B45: 現行システムからのデータ移行費用 | D45: =C45 -> 0
A46: 3 | B46: 新システムへのデータ抽出費用 | D46: =C46 -> 0
A47: 4 | B47: 他システム連携費用 | D47: =C47 -> 0
A48: 5 | B48: ハードウェア費用 | D48: =C48 -> 0
A49: 6 | B49: ソフトウェア費用 | D49: =C49 -> 0
A50: 7 | B50: （発生する費用項目をご記入ください） | D50: =C50 -> 0
A51: 8 | B51: （発生する費用項目をご記入ください） | D51: =C51 -> 0
B52: 年度合計額 | C52: =SUM(C44:C51) -> 0 | D52: =SUM(D44:D51) -> 0
A54: 各システム合計 | G54: （税抜き）
A55: No | B55: 発生費用 | C55: 導入費用 | D55: 項目合計額 | E55: 備考
A56: 1 | B56: システム構築費用 （プロジェクト開始から終了までに係る費用） | C56: =SUM(C8,C20,C32,C44) -> 0 | D56: =SUM(D8,D20,D32,D44) -> 0
A57: 2 | B57: 現行システムからのデータ移行費用 | C57: =SUM(C9,C21,C33,C45) -> 0 | D57: =SUM(D9,D21,D33,D45) -> 0
A58: 3 | B58: 新システムへのデータ抽出費用 | C58: =SUM(C10,C22,C34,C46) -> 0 | D58: =SUM(D10,D22,D34,D46) -> 0
A59: 4 | B59: 他システム連携費用 | C59: =SUM(C11,C23,C35,C47) -> 0 | D59: =SUM(D11,D23,D35,D47) -> 0
A60: 5 | B60: ハードウェア費用 | C60: =SUM(C12,C24,C36,C48) -> 0 | D60: =SUM(D12,D24,D36,D48) -> 0
A61: 6 | B61: ソフトウェア費用 | C61: =SUM(C13,C25,C37,C49) -> 0 | D61: =SUM(D13,D25,D37,D49) -> 0
A62: 7 | B62: （発生する費用項目をご記入ください） | C62: =SUM(C14,C26,C38,C50) -> 0 | D62: =SUM(D14,D26,D38,D50) -> 0
A63: 8 | B63: （発生する費用項目をご記入ください） | C63: =SUM(C15,C27,C39,C51) -> 0 | D63: =SUM(D15,D27,D39,D51) -> 0
B64: 年度合計額 | C64: =SUM(C56:C63) -> 0 | D64: =SUM(D56:D63) -> 0

Sheet 【内訳2】運用保守業務費用
A1: 【内訳２】運用保守業務費用
A3: 各新システムの導入（設計・構築・移行等）費用の見積をお願いします。
A4: 運用費用に掛かるオプション等がある場合、セルを追加の上、各オプションごとの費用をご記載ください。
A6: 文書管理システム | K6: （税抜き）
A7: No | B7: 発生費用 | C7: 保守費用（1年目） | D7: 保守費用（2年目） | E7: 保守費用（3年目） | F7: 保守費用（4年目） | G7: 保守費用（5年目） | H7: 項目合計額 | I7: 備考
A8: 1 | B8: ライセンス利用料 | H8: =C8+G8 -> 0
A9: 2 | B9: 運用保守費用 | H9: =C9+G9 -> 0
A10: 3 | B10: データセンター利用料 | H10: =C10+G10 -> 0
A11: 4 | B11: （発生する費用項目をご記入ください） | H11: =C11+G11 -> 0
A12: 5 | B12: （発生する費用項目をご記入ください） | H12: =C12+G12 -> 0
B13: 年度合計額 | C13: =SUM(C8:C12) -> 0 | D13: =SUM(D8:D12) -> 0 | E13: =SUM(E8:E12) -> 0 | F13: =SUM(F8:F12) -> 0 | G13: =SUM(G8:G12) -> 0 | H13: =C13+G13 -> 0
A16: 財務会計システム | K16: （税抜き）
A17: No | B17: 発生費用 | C17: 保守費用（1年目） | D17: 保守費用（2年目） | E17: 保守費用（3年目） | F17: 保守費用（4年目） | G17: 保守費用（5年目） | H17: 項目合計額 | I17: 備考
A18: 1 | B18: ライセンス利用料 | H18: =C18+G18 -> 0
A19: 2 | B19: 運用保守費用 | H19: =C19+G19 -> 0
A20: 3 | B20: データセンター利用料 | H20: =C20+G20 -> 0
A21: 4 | B21: （発生する費用項目をご記入ください） | H21: =C21+G21 -> 0
A22: 5 | B22: （発生する費用項目をご記入ください） | H22: =C22+G22 -> 0
B23: 年度合計額 | C23: =SUM(C18:C22) -> 0 | D23: =SUM(D18:D22) -> 0 | E23: =SUM(E18:E22) -> 0 | F23: =SUM(F18:F22) -> 0 | G23: =SUM(G18:G22) -> 0 | H23: =C23+G23 -> 0
A25: 庶務事務システム | K25: （税抜き）
A26: No | B26: 発生費用 | C26: 保守費用（1年目） | D26: 保守費用（2年目） | E26: 保守費用（3年目） | F26: 保守費用（4年目） | G26: 保守費用（5年目） | H26: 項目合計額 | I26: 備考
A27: 1 | B27: ライセンス利用料 | H27: =C27+G27 -> 0
A28: 2 | B28: 運用保守費用 | H28: =C28+G28 -> 0
A29: 3 | B29: データセンター利用料 | H29: =C29+G29 -> 0
A30: 4 | B30: （発生する費用項目をご記入ください） | H30: =C30+G30 -> 0
A31: 5 | B31: （発生する費用項目をご記入ください） | H31: =C31+G31 -> 0
B32: 年度合計額 | C32: =SUM(C27:C31) -> 0 | D32: =SUM(D27:D31) -> 0 | E32: =SUM(E27:E31) -> 0 | F32: =SUM(F27:F31) -> 0 | G32: =SUM(G27:G31) -> 0 | H32: =C32+G32 -> 0
A34: 人事給与システム | K34: （税抜き）
A35: No | B35: 発生費用 | C35: 保守費用（1年目） | D35: 保守費用（2年目） | E35: 保守費用（3年目） | F35: 保守費用（4年目） | G35: 保守費用（5年目） | H35: 項目合計額 | I35: 備考
A36: 1 | B36: ライセンス利用料 | H36: =C36+G36 -> 0
A37: 2 | B37: 運用保守費用 | H37: =C37+G37 -> 0
A38: 3 | B38: データセンター利用料 | H38: =C38+G38 -> 0
A39: 4 | B39: （発生する費用項目をご記入ください） | H39: =C39+G39 -> 0
A40: 5 | B40: （発生する費用項目をご記入ください） | H40: =C40+G40 -> 0
B41: 年度合計額 | C41: =SUM(C36:C40) -> 0 | D41: =SUM(D36:D40) -> 0 | E41: =SUM(E36:E40) -> 0 | F41: =SUM(F36:F40) -> 0 | G41: =SUM(G36:G40) -> 0 | H41: =C41+G41 -> 0
A43: 各システム合計 | K43: （税抜き）
A44: No | B44: 発生費用 | C44: 保守費用（1年目） | D44: 保守費用（2年目） | E44: 保守費用（3年目） | F44: 保守費用（4年目） | G44: 保守費用（5年目） | H44: 項目合計額 | I44: 備考
A45: 1 | B45: ライセンス利用料 | C45: =SUM(C8,C18,C27,C36) -> 0 | D45: =SUM(D8,D18,D27,D36) -> 0 | E45: =SUM(E8,E18,E27,E36) -> 0 | F45: =SUM(F8,F18,F27,F36) -> 0 | G45: =SUM(G8,G18,G27,G36) -> 0 | H45: =C45+G45 -> 0
A46: 2 | B46: 運用保守費用 | C46: =SUM(C9,C19,C28,C37) -> 0 | D46: =SUM(D9,D19,D28,D37) -> 0 | E46: =SUM(E9,E19,E28,E37) -> 0 | F46: =SUM(F9,F19,F28,F37) -> 0 | G46: =SUM(G9,G19,G28,G37) -> 0 | H46: =C46+G46 -> 0
A47: 3 | B47: データセンター利用料 | C47: =SUM(C10,C20,C29,C38) -> 0 | D47: =SUM(D10,D20,D29,D38) -> 0 | E47: =SUM(E10,E20,E29,E38) -> 0 | F47: =SUM(F10,F20,F29,F38) -> 0 | G47: =SUM(G10,G20,G29,G38) -> 0 | H47: =C47+G47 -> 0
A48: 4 | B48: （発生する費用項目をご記入ください） | C48: =SUM(C11,C21,C30,C39) -> 0 | D48: =SUM(D11,D21,D30,D39) -> 0 | E48: =SUM(E11,E21,E30,E39) -> 0 | F48: =SUM(F11,F21,F30,F39) -> 0 | G48: =SUM(G11,G21,G30,G39) -> 0 | H48: =C48+G48 -> 0
A49: 5 | B49: （発生する費用項目をご記入ください） | C49: =SUM(C12,C22,C31,C40) -> 0 | D49: =SUM(D12,D22,D31,D40) -> 0 | E49: =SUM(E12,E22,E31,E40) -> 0 | F49: =SUM(F12,F22,F31,F40) -> 0 | G49: =SUM(G12,G22,G31,G40) -> 0 | H49: =C49+G49 -> 0
B50: 年度合計額 | C50: =SUM(C45:C49) -> 0 | D50: =SUM(D45:D49) -> 0 | E50: =SUM(E45:E49) -> 0 | F50: =SUM(F45:F49) -> 0 | G50: =SUM(G45:G49) -> 0 | H50: =C50+G50 -> 0
